BEGIN:VCALENDAR
VERSION:2.0
PRODID:-//CTE Global, Inc. - ECPv6.15.18//NONSGML v1.0//EN
CALSCALE:GREGORIAN
METHOD:PUBLISH
X-ORIGINAL-URL:https://cte-global.com
X-WR-CALDESC:Events for CTE Global, Inc.
REFRESH-INTERVAL;VALUE=DURATION:PT1H
X-Robots-Tag:noindex
X-PUBLISHED-TTL:PT1H
BEGIN:VTIMEZONE
TZID:UTC
BEGIN:STANDARD
TZOFFSETFROM:+0000
TZOFFSETTO:+0000
TZNAME:UTC
DTSTART:20240101T000000
END:STANDARD
END:VTIMEZONE
BEGIN:VEVENT
DTSTART;VALUE=DATE:20250204
DTEND;VALUE=DATE:20250205
DTSTAMP:20260424T130322
CREATED:20231030T122926Z
LAST-MODIFIED:20250114T221926Z
UID:1302-1738627200-1738713599@cte-global.com
SUMMARY:2025 Iowa Renewable Fuels Summit
DESCRIPTION:
URL:https://cte-global.com/event/2024-iowa-renewable-fuels-summit/
LOCATION:The Meadow Events Center\, Des Moines\, IA\, United States
END:VEVENT
BEGIN:VEVENT
DTSTART;TZID=UTC:20250217T080000
DTEND;TZID=UTC:20250219T170000
DTSTAMP:20260424T130322
CREATED:20231030T123228Z
LAST-MODIFIED:20250114T221715Z
UID:1305-1739779200-1739984400@cte-global.com
SUMMARY:2025 National Ethanol Conference
DESCRIPTION:
URL:https://cte-global.com/event/2024-national-ethanol-conference/
END:VEVENT
END:VCALENDAR